BEGIN:VCALENDAR
VERSION:2.0
PRODID:-//Houston Orchid Society - ECPv6.15.20//NONSGML v1.0//EN
CALSCALE:GREGORIAN
METHOD:PUBLISH
X-WR-CALNAME:Houston Orchid Society
X-ORIGINAL-URL:https://www.houstonorchidsociety.org
X-WR-CALDESC:Events for Houston Orchid Society
REFRESH-INTERVAL;VALUE=DURATION:PT1H
X-Robots-Tag:noindex
X-PUBLISHED-TTL:PT1H
BEGIN:VTIMEZONE
TZID:America/Chicago
BEGIN:DAYLIGHT
TZOFFSETFROM:-0600
TZOFFSETTO:-0500
TZNAME:CDT
DTSTART:20290311T080000
END:DAYLIGHT
BEGIN:STANDARD
TZOFFSETFROM:-0500
TZOFFSETTO:-0600
TZNAME:CST
DTSTART:20291104T070000
END:STANDARD
BEGIN:DAYLIGHT
TZOFFSETFROM:-0600
TZOFFSETTO:-0500
TZNAME:CDT
DTSTART:20300310T080000
END:DAYLIGHT
BEGIN:STANDARD
TZOFFSETFROM:-0500
TZOFFSETTO:-0600
TZNAME:CST
DTSTART:20301103T070000
END:STANDARD
BEGIN:DAYLIGHT
TZOFFSETFROM:-0600
TZOFFSETTO:-0500
TZNAME:CDT
DTSTART:20310309T080000
END:DAYLIGHT
BEGIN:STANDARD
TZOFFSETFROM:-0500
TZOFFSETTO:-0600
TZNAME:CST
DTSTART:20311102T070000
END:STANDARD
BEGIN:DAYLIGHT
TZOFFSETFROM:-0600
TZOFFSETTO:-0500
TZNAME:CDT
DTSTART:20320314T080000
END:DAYLIGHT
BEGIN:STANDARD
TZOFFSETFROM:-0500
TZOFFSETTO:-0600
TZNAME:CST
DTSTART:20321107T070000
END:STANDARD
END:VTIMEZONE
BEGIN:VEVENT
DTSTART;TZID=America/Chicago:20300518T103000
DTEND;TZID=America/Chicago:20300518T143000
DTSTAMP:20260420T190833
CREATED:20260119T192054Z
LAST-MODIFIED:20260119T192054Z
UID:10000922-1905330600-1905345000@www.houstonorchidsociety.org
SUMMARY:Houston Judging Center Monthly Meeting
DESCRIPTION:The Houston Judging Center (HJC) meets the third Saturday of each month at First Christian School\, 1601 Sunset Boulevard\, Houston\, Texas 77005. All judges and visitors are welcome to attend. \nWe have returned to in-person judging and continue to monitor the pandemic situation and CDC guidelines. Please check here prior to attending a judging session to determine whether we are holding the judging in person. \nJudging Schedule\n\n\n\n10:30 a.m.\nTraining\n\n\n11:00 a.m.\nDiscussion and news\n\n\n12:00 p.m.\nLunch (bring your own)\n\n\n12:30 p.m.\nJudging to completion\n\n\n\nPlants submitted for judging must be registered by 11:30am on the day of judging. You may register in person or in advance by use of our online pre-registration form.
URL:https://www.houstonorchidsociety.org/event/hjc-monthly-meeting-2022-06-18-2-3/2030-05-18/
LOCATION:First Christian Church\, 1601 Sunset Boulevard\, Houston\, TX\, 77005\, United States
CATEGORIES:Houston Judging Center
ATTACH;FMTTYPE=image/png:https://www.houstonorchidsociety.org/wp/wp-content/uploads/2021/12/houston-judging-center-event-badge.png
GEO:29;-95
X-APPLE-STRUCTURED-LOCATION;VALUE=URI;X-ADDRESS=First Christian Church 1601 Sunset Boulevard Houston TX 77005 United States;X-APPLE-RADIUS=500;X-TITLE=1601 Sunset Boulevard:geo:-95,29
END:VEVENT
BEGIN:VEVENT
DTSTART;TZID=America/Chicago:20300615T103000
DTEND;TZID=America/Chicago:20300615T143000
DTSTAMP:20260420T190833
CREATED:20260119T192054Z
LAST-MODIFIED:20260119T192054Z
UID:10000923-1907749800-1907764200@www.houstonorchidsociety.org
SUMMARY:Houston Judging Center Monthly Meeting
DESCRIPTION:The Houston Judging Center (HJC) meets the third Saturday of each month at First Christian School\, 1601 Sunset Boulevard\, Houston\, Texas 77005. All judges and visitors are welcome to attend. \nWe have returned to in-person judging and continue to monitor the pandemic situation and CDC guidelines. Please check here prior to attending a judging session to determine whether we are holding the judging in person. \nJudging Schedule\n\n\n\n10:30 a.m.\nTraining\n\n\n11:00 a.m.\nDiscussion and news\n\n\n12:00 p.m.\nLunch (bring your own)\n\n\n12:30 p.m.\nJudging to completion\n\n\n\nPlants submitted for judging must be registered by 11:30am on the day of judging. You may register in person or in advance by use of our online pre-registration form.
URL:https://www.houstonorchidsociety.org/event/hjc-monthly-meeting-2022-06-18-2-3/2030-06-15/
LOCATION:First Christian Church\, 1601 Sunset Boulevard\, Houston\, TX\, 77005\, United States
CATEGORIES:Houston Judging Center
ATTACH;FMTTYPE=image/png:https://www.houstonorchidsociety.org/wp/wp-content/uploads/2021/12/houston-judging-center-event-badge.png
GEO:29;-95
X-APPLE-STRUCTURED-LOCATION;VALUE=URI;X-ADDRESS=First Christian Church 1601 Sunset Boulevard Houston TX 77005 United States;X-APPLE-RADIUS=500;X-TITLE=1601 Sunset Boulevard:geo:-95,29
END:VEVENT
BEGIN:VEVENT
DTSTART;TZID=America/Chicago:20300720T103000
DTEND;TZID=America/Chicago:20300720T143000
DTSTAMP:20260420T190833
CREATED:20260119T192054Z
LAST-MODIFIED:20260119T192054Z
UID:10000924-1910773800-1910788200@www.houstonorchidsociety.org
SUMMARY:Houston Judging Center Monthly Meeting
DESCRIPTION:The Houston Judging Center (HJC) meets the third Saturday of each month at First Christian School\, 1601 Sunset Boulevard\, Houston\, Texas 77005. All judges and visitors are welcome to attend. \nWe have returned to in-person judging and continue to monitor the pandemic situation and CDC guidelines. Please check here prior to attending a judging session to determine whether we are holding the judging in person. \nJudging Schedule\n\n\n\n10:30 a.m.\nTraining\n\n\n11:00 a.m.\nDiscussion and news\n\n\n12:00 p.m.\nLunch (bring your own)\n\n\n12:30 p.m.\nJudging to completion\n\n\n\nPlants submitted for judging must be registered by 11:30am on the day of judging. You may register in person or in advance by use of our online pre-registration form.
URL:https://www.houstonorchidsociety.org/event/hjc-monthly-meeting-2022-06-18-2-3/2030-07-20/
LOCATION:First Christian Church\, 1601 Sunset Boulevard\, Houston\, TX\, 77005\, United States
CATEGORIES:Houston Judging Center
ATTACH;FMTTYPE=image/png:https://www.houstonorchidsociety.org/wp/wp-content/uploads/2021/12/houston-judging-center-event-badge.png
GEO:29;-95
X-APPLE-STRUCTURED-LOCATION;VALUE=URI;X-ADDRESS=First Christian Church 1601 Sunset Boulevard Houston TX 77005 United States;X-APPLE-RADIUS=500;X-TITLE=1601 Sunset Boulevard:geo:-95,29
END:VEVENT
BEGIN:VEVENT
DTSTART;TZID=America/Chicago:20300817T103000
DTEND;TZID=America/Chicago:20300817T143000
DTSTAMP:20260420T190833
CREATED:20260119T192054Z
LAST-MODIFIED:20260119T192054Z
UID:10000925-1913193000-1913207400@www.houstonorchidsociety.org
SUMMARY:Houston Judging Center Monthly Meeting
DESCRIPTION:The Houston Judging Center (HJC) meets the third Saturday of each month at First Christian School\, 1601 Sunset Boulevard\, Houston\, Texas 77005. All judges and visitors are welcome to attend. \nWe have returned to in-person judging and continue to monitor the pandemic situation and CDC guidelines. Please check here prior to attending a judging session to determine whether we are holding the judging in person. \nJudging Schedule\n\n\n\n10:30 a.m.\nTraining\n\n\n11:00 a.m.\nDiscussion and news\n\n\n12:00 p.m.\nLunch (bring your own)\n\n\n12:30 p.m.\nJudging to completion\n\n\n\nPlants submitted for judging must be registered by 11:30am on the day of judging. You may register in person or in advance by use of our online pre-registration form.
URL:https://www.houstonorchidsociety.org/event/hjc-monthly-meeting-2022-06-18-2-3/2030-08-17/
LOCATION:First Christian Church\, 1601 Sunset Boulevard\, Houston\, TX\, 77005\, United States
CATEGORIES:Houston Judging Center
ATTACH;FMTTYPE=image/png:https://www.houstonorchidsociety.org/wp/wp-content/uploads/2021/12/houston-judging-center-event-badge.png
GEO:29;-95
X-APPLE-STRUCTURED-LOCATION;VALUE=URI;X-ADDRESS=First Christian Church 1601 Sunset Boulevard Houston TX 77005 United States;X-APPLE-RADIUS=500;X-TITLE=1601 Sunset Boulevard:geo:-95,29
END:VEVENT
BEGIN:VEVENT
DTSTART;TZID=America/Chicago:20300921T103000
DTEND;TZID=America/Chicago:20300921T143000
DTSTAMP:20260420T190833
CREATED:20260119T192054Z
LAST-MODIFIED:20260119T192054Z
UID:10000926-1916217000-1916231400@www.houstonorchidsociety.org
SUMMARY:Houston Judging Center Monthly Meeting
DESCRIPTION:The Houston Judging Center (HJC) meets the third Saturday of each month at First Christian School\, 1601 Sunset Boulevard\, Houston\, Texas 77005. All judges and visitors are welcome to attend. \nWe have returned to in-person judging and continue to monitor the pandemic situation and CDC guidelines. Please check here prior to attending a judging session to determine whether we are holding the judging in person. \nJudging Schedule\n\n\n\n10:30 a.m.\nTraining\n\n\n11:00 a.m.\nDiscussion and news\n\n\n12:00 p.m.\nLunch (bring your own)\n\n\n12:30 p.m.\nJudging to completion\n\n\n\nPlants submitted for judging must be registered by 11:30am on the day of judging. You may register in person or in advance by use of our online pre-registration form.
URL:https://www.houstonorchidsociety.org/event/hjc-monthly-meeting-2022-06-18-2-3/2030-09-21/
LOCATION:First Christian Church\, 1601 Sunset Boulevard\, Houston\, TX\, 77005\, United States
CATEGORIES:Houston Judging Center
ATTACH;FMTTYPE=image/png:https://www.houstonorchidsociety.org/wp/wp-content/uploads/2021/12/houston-judging-center-event-badge.png
GEO:29;-95
X-APPLE-STRUCTURED-LOCATION;VALUE=URI;X-ADDRESS=First Christian Church 1601 Sunset Boulevard Houston TX 77005 United States;X-APPLE-RADIUS=500;X-TITLE=1601 Sunset Boulevard:geo:-95,29
END:VEVENT
BEGIN:VEVENT
DTSTART;TZID=America/Chicago:20301019T103000
DTEND;TZID=America/Chicago:20301019T143000
DTSTAMP:20260420T190833
CREATED:20260119T192054Z
LAST-MODIFIED:20260119T192054Z
UID:10000927-1918636200-1918650600@www.houstonorchidsociety.org
SUMMARY:Houston Judging Center Monthly Meeting
DESCRIPTION:The Houston Judging Center (HJC) meets the third Saturday of each month at First Christian School\, 1601 Sunset Boulevard\, Houston\, Texas 77005. All judges and visitors are welcome to attend. \nWe have returned to in-person judging and continue to monitor the pandemic situation and CDC guidelines. Please check here prior to attending a judging session to determine whether we are holding the judging in person. \nJudging Schedule\n\n\n\n10:30 a.m.\nTraining\n\n\n11:00 a.m.\nDiscussion and news\n\n\n12:00 p.m.\nLunch (bring your own)\n\n\n12:30 p.m.\nJudging to completion\n\n\n\nPlants submitted for judging must be registered by 11:30am on the day of judging. You may register in person or in advance by use of our online pre-registration form.
URL:https://www.houstonorchidsociety.org/event/hjc-monthly-meeting-2022-06-18-2-3/2030-10-19/
LOCATION:First Christian Church\, 1601 Sunset Boulevard\, Houston\, TX\, 77005\, United States
CATEGORIES:Houston Judging Center
ATTACH;FMTTYPE=image/png:https://www.houstonorchidsociety.org/wp/wp-content/uploads/2021/12/houston-judging-center-event-badge.png
GEO:29;-95
X-APPLE-STRUCTURED-LOCATION;VALUE=URI;X-ADDRESS=First Christian Church 1601 Sunset Boulevard Houston TX 77005 United States;X-APPLE-RADIUS=500;X-TITLE=1601 Sunset Boulevard:geo:-95,29
END:VEVENT
BEGIN:VEVENT
DTSTART;TZID=America/Chicago:20301116T103000
DTEND;TZID=America/Chicago:20301116T143000
DTSTAMP:20260420T190833
CREATED:20260119T192054Z
LAST-MODIFIED:20260119T192054Z
UID:10000928-1921055400-1921069800@www.houstonorchidsociety.org
SUMMARY:Houston Judging Center Monthly Meeting
DESCRIPTION:The Houston Judging Center (HJC) meets the third Saturday of each month at First Christian School\, 1601 Sunset Boulevard\, Houston\, Texas 77005. All judges and visitors are welcome to attend. \nWe have returned to in-person judging and continue to monitor the pandemic situation and CDC guidelines. Please check here prior to attending a judging session to determine whether we are holding the judging in person. \nJudging Schedule\n\n\n\n10:30 a.m.\nTraining\n\n\n11:00 a.m.\nDiscussion and news\n\n\n12:00 p.m.\nLunch (bring your own)\n\n\n12:30 p.m.\nJudging to completion\n\n\n\nPlants submitted for judging must be registered by 11:30am on the day of judging. You may register in person or in advance by use of our online pre-registration form.
URL:https://www.houstonorchidsociety.org/event/hjc-monthly-meeting-2022-06-18-2-3/2030-11-16/
LOCATION:First Christian Church\, 1601 Sunset Boulevard\, Houston\, TX\, 77005\, United States
CATEGORIES:Houston Judging Center
ATTACH;FMTTYPE=image/png:https://www.houstonorchidsociety.org/wp/wp-content/uploads/2021/12/houston-judging-center-event-badge.png
GEO:29;-95
X-APPLE-STRUCTURED-LOCATION;VALUE=URI;X-ADDRESS=First Christian Church 1601 Sunset Boulevard Houston TX 77005 United States;X-APPLE-RADIUS=500;X-TITLE=1601 Sunset Boulevard:geo:-95,29
END:VEVENT
BEGIN:VEVENT
DTSTART;TZID=America/Chicago:20301221T103000
DTEND;TZID=America/Chicago:20301221T143000
DTSTAMP:20260420T190833
CREATED:20260119T192054Z
LAST-MODIFIED:20260119T192054Z
UID:10000929-1924079400-1924093800@www.houstonorchidsociety.org
SUMMARY:Houston Judging Center Monthly Meeting
DESCRIPTION:The Houston Judging Center (HJC) meets the third Saturday of each month at First Christian School\, 1601 Sunset Boulevard\, Houston\, Texas 77005. All judges and visitors are welcome to attend. \nWe have returned to in-person judging and continue to monitor the pandemic situation and CDC guidelines. Please check here prior to attending a judging session to determine whether we are holding the judging in person. \nJudging Schedule\n\n\n\n10:30 a.m.\nTraining\n\n\n11:00 a.m.\nDiscussion and news\n\n\n12:00 p.m.\nLunch (bring your own)\n\n\n12:30 p.m.\nJudging to completion\n\n\n\nPlants submitted for judging must be registered by 11:30am on the day of judging. You may register in person or in advance by use of our online pre-registration form.
URL:https://www.houstonorchidsociety.org/event/hjc-monthly-meeting-2022-06-18-2-3/2030-12-21/
LOCATION:First Christian Church\, 1601 Sunset Boulevard\, Houston\, TX\, 77005\, United States
CATEGORIES:Houston Judging Center
ATTACH;FMTTYPE=image/png:https://www.houstonorchidsociety.org/wp/wp-content/uploads/2021/12/houston-judging-center-event-badge.png
GEO:29;-95
X-APPLE-STRUCTURED-LOCATION;VALUE=URI;X-ADDRESS=First Christian Church 1601 Sunset Boulevard Houston TX 77005 United States;X-APPLE-RADIUS=500;X-TITLE=1601 Sunset Boulevard:geo:-95,29
END:VEVENT
BEGIN:VEVENT
DTSTART;TZID=America/Chicago:20310118T103000
DTEND;TZID=America/Chicago:20310118T143000
DTSTAMP:20260420T190833
CREATED:20260119T192054Z
LAST-MODIFIED:20260119T192054Z
UID:10000930-1926498600-1926513000@www.houstonorchidsociety.org
SUMMARY:Houston Judging Center Monthly Meeting
DESCRIPTION:The Houston Judging Center (HJC) meets the third Saturday of each month at First Christian School\, 1601 Sunset Boulevard\, Houston\, Texas 77005. All judges and visitors are welcome to attend. \nWe have returned to in-person judging and continue to monitor the pandemic situation and CDC guidelines. Please check here prior to attending a judging session to determine whether we are holding the judging in person. \nJudging Schedule\n\n\n\n10:30 a.m.\nTraining\n\n\n11:00 a.m.\nDiscussion and news\n\n\n12:00 p.m.\nLunch (bring your own)\n\n\n12:30 p.m.\nJudging to completion\n\n\n\nPlants submitted for judging must be registered by 11:30am on the day of judging. You may register in person or in advance by use of our online pre-registration form.
URL:https://www.houstonorchidsociety.org/event/hjc-monthly-meeting-2022-06-18-2-3/2031-01-18/
LOCATION:First Christian Church\, 1601 Sunset Boulevard\, Houston\, TX\, 77005\, United States
CATEGORIES:Houston Judging Center
ATTACH;FMTTYPE=image/png:https://www.houstonorchidsociety.org/wp/wp-content/uploads/2021/12/houston-judging-center-event-badge.png
GEO:29;-95
X-APPLE-STRUCTURED-LOCATION;VALUE=URI;X-ADDRESS=First Christian Church 1601 Sunset Boulevard Houston TX 77005 United States;X-APPLE-RADIUS=500;X-TITLE=1601 Sunset Boulevard:geo:-95,29
END:VEVENT
END:VCALENDAR