BEGIN:VCALENDAR
VERSION:2.0
PRODID:-//Houston Orchid Society - ECPv6.15.20//NONSGML v1.0//EN
CALSCALE:GREGORIAN
METHOD:PUBLISH
X-WR-CALNAME:Houston Orchid Society
X-ORIGINAL-URL:https://www.houstonorchidsociety.org
X-WR-CALDESC:Events for Houston Orchid Society
REFRESH-INTERVAL;VALUE=DURATION:PT1H
X-Robots-Tag:noindex
X-PUBLISHED-TTL:PT1H
BEGIN:VTIMEZONE
TZID:America/Chicago
BEGIN:DAYLIGHT
TZOFFSETFROM:-0600
TZOFFSETTO:-0500
TZNAME:CDT
DTSTART:20230312T080000
END:DAYLIGHT
BEGIN:STANDARD
TZOFFSETFROM:-0500
TZOFFSETTO:-0600
TZNAME:CST
DTSTART:20231105T070000
END:STANDARD
BEGIN:DAYLIGHT
TZOFFSETFROM:-0600
TZOFFSETTO:-0500
TZNAME:CDT
DTSTART:20240310T080000
END:DAYLIGHT
BEGIN:STANDARD
TZOFFSETFROM:-0500
TZOFFSETTO:-0600
TZNAME:CST
DTSTART:20241103T070000
END:STANDARD
BEGIN:DAYLIGHT
TZOFFSETFROM:-0600
TZOFFSETTO:-0500
TZNAME:CDT
DTSTART:20250309T080000
END:DAYLIGHT
BEGIN:STANDARD
TZOFFSETFROM:-0500
TZOFFSETTO:-0600
TZNAME:CST
DTSTART:20251102T070000
END:STANDARD
END:VTIMEZONE
BEGIN:VEVENT
DTSTART;TZID=America/Chicago:20240310T110000
DTEND;TZID=America/Chicago:20240310T160000
DTSTAMP:20260424T094246
CREATED:20231013T214514Z
LAST-MODIFIED:20231013T215528Z
UID:10000514-1710068400-1710086400@www.houstonorchidsociety.org
SUMMARY:2024 Spring Show—Sunday
DESCRIPTION:The 2024 Spring Show and Sale will be held at Memorial City Mall in front of Dillard’s on Friday\, March 8\, through Sunday\, March 10\, 2024. \nMore information \n\n\n\n11am–4pm\nExhibits and plant sales\n\n\n4pm\nDismantle and cleanup
URL:https://www.houstonorchidsociety.org/event/2024-spring-show-sunday/
LOCATION:Memorial City Mall–Houston\, 303 Memorial City Way\, Houston\, TX\, 77024\, United States
ATTACH;FMTTYPE=image/png:https://www.houstonorchidsociety.org/wp/wp-content/uploads/2022/02/show-4.png
END:VEVENT
END:VCALENDAR