BEGIN:VCALENDAR
VERSION:2.0
PRODID:-//Houston Orchid Society - ECPv6.15.20//NONSGML v1.0//EN
CALSCALE:GREGORIAN
METHOD:PUBLISH
X-WR-CALNAME:Houston Orchid Society
X-ORIGINAL-URL:https://www.houstonorchidsociety.org
X-WR-CALDESC:Events for Houston Orchid Society
REFRESH-INTERVAL;VALUE=DURATION:PT1H
X-Robots-Tag:noindex
X-PUBLISHED-TTL:PT1H
BEGIN:VTIMEZONE
TZID:America/Chicago
BEGIN:DAYLIGHT
TZOFFSETFROM:-0600
TZOFFSETTO:-0500
TZNAME:CDT
DTSTART:20230312T080000
END:DAYLIGHT
BEGIN:STANDARD
TZOFFSETFROM:-0500
TZOFFSETTO:-0600
TZNAME:CST
DTSTART:20231105T070000
END:STANDARD
BEGIN:DAYLIGHT
TZOFFSETFROM:-0600
TZOFFSETTO:-0500
TZNAME:CDT
DTSTART:20240310T080000
END:DAYLIGHT
BEGIN:STANDARD
TZOFFSETFROM:-0500
TZOFFSETTO:-0600
TZNAME:CST
DTSTART:20241103T070000
END:STANDARD
BEGIN:DAYLIGHT
TZOFFSETFROM:-0600
TZOFFSETTO:-0500
TZNAME:CDT
DTSTART:20250309T080000
END:DAYLIGHT
BEGIN:STANDARD
TZOFFSETFROM:-0500
TZOFFSETTO:-0600
TZNAME:CST
DTSTART:20251102T070000
END:STANDARD
END:VTIMEZONE
BEGIN:VEVENT
DTSTART;TZID=America/Chicago:20240309T100000
DTEND;TZID=America/Chicago:20240309T170000
DTSTAMP:20260423T060716
CREATED:20231013T214357Z
LAST-MODIFIED:20231013T215257Z
UID:10000513-1709978400-1710003600@www.houstonorchidsociety.org
SUMMARY:2024 Spring Show—Saturday
DESCRIPTION:The 2024 Spring Show and Sale will be held at Memorial City Mall in front of Dillard’s on Friday\, March 8\, through Sunday\, March 10\, 2024. \nMore information \n\n\n\n10am–5pm\nExhibits and plant sales
URL:https://www.houstonorchidsociety.org/event/2024-spring-show-saturday/
LOCATION:Memorial City Mall–Houston\, 303 Memorial City Way\, Houston\, TX\, 77024\, United States
ATTACH;FMTTYPE=image/png:https://www.houstonorchidsociety.org/wp/wp-content/uploads/2022/02/show-6.png
END:VEVENT
BEGIN:VEVENT
DTSTART;TZID=America/Chicago:20240309T110000
DTEND;TZID=America/Chicago:20240309T130000
DTSTAMP:20260423T060716
CREATED:20220223T154244Z
LAST-MODIFIED:20240105T170740Z
UID:10000836-1709982000-1709989200@www.houstonorchidsociety.org
SUMMARY:Dallas Judging Center Monthly Meeting
DESCRIPTION:The Dallas Judging Center meets the second Saturday of each month at the Garland Senior Activity Center\, 600 W. Ave. A\, Garland\, Texas. \nSchedules may change. You are advised to check with the Dallas Judging Center before attending.
URL:https://www.houstonorchidsociety.org/event/dallas-judging-center-monthly-meeting/2024-03-09/
LOCATION:Garland Senior Activity Center\, 600 W. Avenue A\, Garland\, TX\, 75040\, United States
CATEGORIES:Other Judging Centers
ATTACH;FMTTYPE=image/png:https://www.houstonorchidsociety.org/wp/wp-content/uploads/2022/02/other-judging-centers-event-badge.png
END:VEVENT
END:VCALENDAR