BEGIN:VCALENDAR
VERSION:2.0
PRODID:-//Houston Orchid Society - ECPv6.15.20//NONSGML v1.0//EN
CALSCALE:GREGORIAN
METHOD:PUBLISH
X-WR-CALNAME:Houston Orchid Society
X-ORIGINAL-URL:https://www.houstonorchidsociety.org
X-WR-CALDESC:Events for Houston Orchid Society
REFRESH-INTERVAL;VALUE=DURATION:PT1H
X-Robots-Tag:noindex
X-PUBLISHED-TTL:PT1H
BEGIN:VTIMEZONE
TZID:America/Chicago
BEGIN:DAYLIGHT
TZOFFSETFROM:-0600
TZOFFSETTO:-0500
TZNAME:CDT
DTSTART:20230312T080000
END:DAYLIGHT
BEGIN:STANDARD
TZOFFSETFROM:-0500
TZOFFSETTO:-0600
TZNAME:CST
DTSTART:20231105T070000
END:STANDARD
BEGIN:DAYLIGHT
TZOFFSETFROM:-0600
TZOFFSETTO:-0500
TZNAME:CDT
DTSTART:20240310T080000
END:DAYLIGHT
BEGIN:STANDARD
TZOFFSETFROM:-0500
TZOFFSETTO:-0600
TZNAME:CST
DTSTART:20241103T070000
END:STANDARD
BEGIN:DAYLIGHT
TZOFFSETFROM:-0600
TZOFFSETTO:-0500
TZNAME:CDT
DTSTART:20250309T080000
END:DAYLIGHT
BEGIN:STANDARD
TZOFFSETFROM:-0500
TZOFFSETTO:-0600
TZNAME:CST
DTSTART:20251102T070000
END:STANDARD
END:VTIMEZONE
BEGIN:VEVENT
DTSTART;TZID=America/Chicago:20240307T170000
DTEND;TZID=America/Chicago:20240307T220000
DTSTAMP:20260424T125953
CREATED:20231013T213952Z
LAST-MODIFIED:20240101T145650Z
UID:10000511-1709830800-1709848800@www.houstonorchidsociety.org
SUMMARY:2024 Spring Show Setup—Thursday
DESCRIPTION:In lieu of the March monthly meeting\, we’ll be setting up for the 2024 Spring Show at Memorial City Mall in front of Dillard’s. \nMore information \n\n\n\n5–10pm\n\n\nVendor and exhibit setup\nHOS meeting at the mall to help with setup\nPizza served at 6:30pm\nPlant registration
URL:https://www.houstonorchidsociety.org/event/2024-spring-show-setup-thursday/
LOCATION:Memorial City Mall–Houston\, 303 Memorial City Way\, Houston\, TX\, 77024\, United States
ATTACH;FMTTYPE=image/jpeg:https://www.houstonorchidsociety.org/wp/wp-content/uploads/2021/12/HOS-Spring-Show-at-HMNS-Judith-N..jpeg
END:VEVENT
BEGIN:VEVENT
DTSTART;TZID=America/Chicago:20240307T193000
DTEND;TZID=America/Chicago:20240307T213000
DTSTAMP:20260424T125953
CREATED:20240105T162440Z
LAST-MODIFIED:20240105T174356Z
UID:10000518-1709839800-1709847000@www.houstonorchidsociety.org
SUMMARY:Houston Orchid Society Monthly Meeting
DESCRIPTION:In lieu of the March monthly meeting\, please see the Spring Show Setup\, which begins on March 7.
URL:https://www.houstonorchidsociety.org/event/monthly-meeting-2022-03-03-2022-04-07-2024-02-01-2/
LOCATION:First Christian Church\, 1601 Sunset Boulevard\, Houston\, TX\, 77005\, United States
CATEGORIES:Monthly Meeting
GEO:29;-95
X-APPLE-STRUCTURED-LOCATION;VALUE=URI;X-ADDRESS=First Christian Church 1601 Sunset Boulevard Houston TX 77005 United States;X-APPLE-RADIUS=500;X-TITLE=1601 Sunset Boulevard:geo:-95,29
END:VEVENT
END:VCALENDAR