BEGIN:VCALENDAR
VERSION:2.0
PRODID:-//Houston Orchid Society - ECPv6.15.20//NONSGML v1.0//EN
CALSCALE:GREGORIAN
METHOD:PUBLISH
X-WR-CALNAME:Houston Orchid Society
X-ORIGINAL-URL:https://www.houstonorchidsociety.org
X-WR-CALDESC:Events for Houston Orchid Society
REFRESH-INTERVAL;VALUE=DURATION:PT1H
X-Robots-Tag:noindex
X-PUBLISHED-TTL:PT1H
BEGIN:VTIMEZONE
TZID:America/Chicago
BEGIN:DAYLIGHT
TZOFFSETFROM:-0600
TZOFFSETTO:-0500
TZNAME:CDT
DTSTART:20210314T080000
END:DAYLIGHT
BEGIN:STANDARD
TZOFFSETFROM:-0500
TZOFFSETTO:-0600
TZNAME:CST
DTSTART:20211107T070000
END:STANDARD
BEGIN:DAYLIGHT
TZOFFSETFROM:-0600
TZOFFSETTO:-0500
TZNAME:CDT
DTSTART:20220313T080000
END:DAYLIGHT
BEGIN:STANDARD
TZOFFSETFROM:-0500
TZOFFSETTO:-0600
TZNAME:CST
DTSTART:20221106T070000
END:STANDARD
BEGIN:DAYLIGHT
TZOFFSETFROM:-0600
TZOFFSETTO:-0500
TZNAME:CDT
DTSTART:20230312T080000
END:DAYLIGHT
BEGIN:STANDARD
TZOFFSETFROM:-0500
TZOFFSETTO:-0600
TZNAME:CST
DTSTART:20231105T070000
END:STANDARD
END:VTIMEZONE
BEGIN:VEVENT
DTSTART;VALUE=DATE:20220603
DTEND;VALUE=DATE:20220606
DTSTAMP:20260421T104357
CREATED:20220224T024313Z
LAST-MODIFIED:20220225T193608Z
UID:10000318-1654214400-1654473599@www.houstonorchidsociety.org
SUMMARY:New Orleans Orchid Society Show and Sale
DESCRIPTION:The 2022 New Orleans Orchid Society Show and Sale will be held June 3–5\, 2022.
URL:https://www.houstonorchidsociety.org/event/new-orleans-orchid-society-show-and-sale/
LOCATION:Lakeside Shopping Center\, 2201 Veterans Memorial Blvd\, Metairie\, LA\, 70002\, United States
CATEGORIES:Other Shows
END:VEVENT
BEGIN:VEVENT
DTSTART;TZID=America/Chicago:20220605T123000
DTEND;TZID=America/Chicago:20220605T143000
DTSTAMP:20260421T104357
CREATED:20220223T153818Z
LAST-MODIFIED:20220313T004744Z
UID:10000349-1654432200-1654439400@www.houstonorchidsociety.org
SUMMARY:Alamo Judging Center Monthly Meeting
DESCRIPTION:The Alamo Judging Center meets the first Sunday of each month at the Schertz Library\, 798 Schertz Parkway\, Schertz\, Texas. \nSchedules may change. You are advised to check with the Alamo Judging Center before attending.
URL:https://www.houstonorchidsociety.org/event/alamo-judging-center-monthly-meeting/2022-06-05/
LOCATION:Schertz Library\, 798 Schertz Pkwy\, Schertz\, TX\, United States
CATEGORIES:Other Judging Centers
ATTACH;FMTTYPE=image/png:https://www.houstonorchidsociety.org/wp/wp-content/uploads/2022/02/other-judging-centers-event-badge.png
GEO:29;-98
X-APPLE-STRUCTURED-LOCATION;VALUE=URI;X-ADDRESS=Schertz Library 798 Schertz Pkwy Schertz TX United States;X-APPLE-RADIUS=500;X-TITLE=798 Schertz Pkwy:geo:-98,29
END:VEVENT
END:VCALENDAR