BEGIN:VCALENDAR
VERSION:2.0
PRODID:-//Houston Orchid Society - ECPv6.15.20//NONSGML v1.0//EN
CALSCALE:GREGORIAN
METHOD:PUBLISH
X-ORIGINAL-URL:https://www.houstonorchidsociety.org
X-WR-CALDESC:Events for Houston Orchid Society
REFRESH-INTERVAL;VALUE=DURATION:PT1H
X-Robots-Tag:noindex
X-PUBLISHED-TTL:PT1H
BEGIN:VTIMEZONE
TZID:America/Chicago
BEGIN:DAYLIGHT
TZOFFSETFROM:-0600
TZOFFSETTO:-0500
TZNAME:CDT
DTSTART:20210314T080000
END:DAYLIGHT
BEGIN:STANDARD
TZOFFSETFROM:-0500
TZOFFSETTO:-0600
TZNAME:CST
DTSTART:20211107T070000
END:STANDARD
BEGIN:DAYLIGHT
TZOFFSETFROM:-0600
TZOFFSETTO:-0500
TZNAME:CDT
DTSTART:20220313T080000
END:DAYLIGHT
BEGIN:STANDARD
TZOFFSETFROM:-0500
TZOFFSETTO:-0600
TZNAME:CST
DTSTART:20221106T070000
END:STANDARD
BEGIN:DAYLIGHT
TZOFFSETFROM:-0600
TZOFFSETTO:-0500
TZNAME:CDT
DTSTART:20230312T080000
END:DAYLIGHT
BEGIN:STANDARD
TZOFFSETFROM:-0500
TZOFFSETTO:-0600
TZNAME:CST
DTSTART:20231105T070000
END:STANDARD
END:VTIMEZONE
BEGIN:VEVENT
DTSTART;TZID=America/Chicago:20220325T113000
DTEND;TZID=America/Chicago:20220424T190000
DTSTAMP:20260422T192827
CREATED:20220303T124520Z
LAST-MODIFIED:20220303T124520Z
UID:10000316-1648207800-1650826800@www.houstonorchidsociety.org
SUMMARY:Orchids: Hidden Stories of Groundbreaking Women
DESCRIPTION:The annual Orchid Exhibition\, produced by the Smithsonian Gardens in collaboration with the U.S. Botanic Garden\, showcases the work of women who have enriched our understanding and appreciation of orchids.
URL:https://www.houstonorchidsociety.org/event/orchids-hidden-stories-of-groundbreaking-women/
LOCATION:Smithsonian Art Museum\, Robert & Arlene Kogod Courtyard\, Washington\, DC
CATEGORIES:Other Shows
ATTACH;FMTTYPE=image/png:https://www.houstonorchidsociety.org/wp/wp-content/uploads/2022/03/smithsonian.png
END:VEVENT
BEGIN:VEVENT
DTSTART;TZID=America/Chicago:20220416T103000
DTEND;TZID=America/Chicago:20220416T133000
DTSTAMP:20260422T192827
CREATED:20211227T160629Z
LAST-MODIFIED:20230127T161616Z
UID:10000312-1650105000-1650115800@www.houstonorchidsociety.org
SUMMARY:April 2022 HJC Judging
DESCRIPTION:The Houston Judging Center (HJC) will meet on Saturday\, April 16\, 2022\, at First Christian School\, 1601 Sunset Boulevard\, Houston\, Texas 77005. \nWe have returned to in-person judging and continue to monitor the pandemic situation and CDC guidelines. Please check here prior to attending a judging session to determine whether we are holding the judging in person. \nJudging Schedule\n\n\n\n10:30 a.m.\nStudent training\n\n\n11:00 a.m.\nBusiness meeting\n\n\n12:00 p.m.\nLunch break\n\n\n12:30 p.m.\nJudging to completion\n\n\n\nPlants submitted for judging must be registered by 11:30am on the day of judging. You may register in person or in advance by using our online pre-registration form.
URL:https://www.houstonorchidsociety.org/event/april-2022-hjc-judging/
LOCATION:First Christian Church\, 1601 Sunset Boulevard\, Houston\, TX\, 77005\, United States
CATEGORIES:Houston Judging Center
ATTACH;FMTTYPE=image/png:https://www.houstonorchidsociety.org/wp/wp-content/uploads/2021/12/houston-judging-center-event-badge.png
GEO:29;-95
X-APPLE-STRUCTURED-LOCATION;VALUE=URI;X-ADDRESS=First Christian Church 1601 Sunset Boulevard Houston TX 77005 United States;X-APPLE-RADIUS=500;X-TITLE=1601 Sunset Boulevard:geo:-95,29
END:VEVENT
END:VCALENDAR