BEGIN:VCALENDAR
VERSION:2.0
PRODID:-//Houston Orchid Society - ECPv6.15.20//NONSGML v1.0//EN
CALSCALE:GREGORIAN
METHOD:PUBLISH
X-WR-CALNAME:Houston Orchid Society
X-ORIGINAL-URL:https://www.houstonorchidsociety.org
X-WR-CALDESC:Events for Houston Orchid Society
REFRESH-INTERVAL;VALUE=DURATION:PT1H
X-Robots-Tag:noindex
X-PUBLISHED-TTL:PT1H
BEGIN:VTIMEZONE
TZID:America/Chicago
BEGIN:DAYLIGHT
TZOFFSETFROM:-0600
TZOFFSETTO:-0500
TZNAME:CDT
DTSTART:20210314T080000
END:DAYLIGHT
BEGIN:STANDARD
TZOFFSETFROM:-0500
TZOFFSETTO:-0600
TZNAME:CST
DTSTART:20211107T070000
END:STANDARD
BEGIN:DAYLIGHT
TZOFFSETFROM:-0600
TZOFFSETTO:-0500
TZNAME:CDT
DTSTART:20220313T080000
END:DAYLIGHT
BEGIN:STANDARD
TZOFFSETFROM:-0500
TZOFFSETTO:-0600
TZNAME:CST
DTSTART:20221106T070000
END:STANDARD
BEGIN:DAYLIGHT
TZOFFSETFROM:-0600
TZOFFSETTO:-0500
TZNAME:CDT
DTSTART:20230312T080000
END:DAYLIGHT
BEGIN:STANDARD
TZOFFSETFROM:-0500
TZOFFSETTO:-0600
TZNAME:CST
DTSTART:20231105T070000
END:STANDARD
END:VTIMEZONE
BEGIN:VEVENT
DTSTART;VALUE=DATE:20220325
DTEND;VALUE=DATE:20220328
DTSTAMP:20260423T064627
CREATED:20220224T023759Z
LAST-MODIFIED:20220225T193007Z
UID:10000320-1648166400-1648425599@www.houstonorchidsociety.org
SUMMARY:Calcasieu Orchid Society Show and Sale
DESCRIPTION:The 2022 Calcasieu Orchid Society Show and Sale will be held March 25–27\, 2022.
URL:https://www.houstonorchidsociety.org/event/calcasieu-orchid-society-show-and-sale/
LOCATION:1911 Historic City Hall\, 1001 Ryan St\, Lake Charles\, LA\, 70601\, United States
CATEGORIES:Other Shows
END:VEVENT
BEGIN:VEVENT
DTSTART;VALUE=DATE:20220325
DTEND;VALUE=DATE:20220328
DTSTAMP:20260423T064627
CREATED:20220224T024006Z
LAST-MODIFIED:20220225T194552Z
UID:10000319-1648166400-1648425599@www.houstonorchidsociety.org
SUMMARY:Mobile Area Orchid Society Show and Sale
DESCRIPTION:The 2022 Mobile Area Orchid Society Show and Sale will be held March 25–27\, 2022.
URL:https://www.houstonorchidsociety.org/event/mobile-area-orchid-society-show-and-sale/
LOCATION:Bellingrath Gardens and Home\, 12401 Bellingrath Gardens Rd\, Theodore\, AL\, 36582\, United States
CATEGORIES:Other Shows
END:VEVENT
BEGIN:VEVENT
DTSTART;TZID=America/Chicago:20220325T113000
DTEND;TZID=America/Chicago:20220424T190000
DTSTAMP:20260423T064627
CREATED:20220303T124520Z
LAST-MODIFIED:20220303T124520Z
UID:10000316-1648207800-1650826800@www.houstonorchidsociety.org
SUMMARY:Orchids: Hidden Stories of Groundbreaking Women
DESCRIPTION:The annual Orchid Exhibition\, produced by the Smithsonian Gardens in collaboration with the U.S. Botanic Garden\, showcases the work of women who have enriched our understanding and appreciation of orchids.
URL:https://www.houstonorchidsociety.org/event/orchids-hidden-stories-of-groundbreaking-women/
LOCATION:Smithsonian Art Museum\, Robert & Arlene Kogod Courtyard\, Washington\, DC
CATEGORIES:Other Shows
ATTACH;FMTTYPE=image/png:https://www.houstonorchidsociety.org/wp/wp-content/uploads/2022/03/smithsonian.png
END:VEVENT
BEGIN:VEVENT
DTSTART;TZID=America/Chicago:20220327T130000
DTEND;TZID=America/Chicago:20220327T150000
DTSTAMP:20260423T064627
CREATED:20220314T020351Z
LAST-MODIFIED:20220314T020351Z
UID:10000377-1648386000-1648393200@www.houstonorchidsociety.org
SUMMARY:Culture Club
DESCRIPTION:The Culture Club\, open to HOS members\, meets periodically to study beginner to advanced orchid-growing topics. The location of this meeting will be announced via email. HOS members must RSVP to president@houstonorchidsociety.org.
URL:https://www.houstonorchidsociety.org/event/culture-club/
LOCATION:TX
CATEGORIES:Culture Club
END:VEVENT
END:VCALENDAR