BEGIN:VCALENDAR
VERSION:2.0
PRODID:-//Houston Orchid Society - ECPv6.15.20//NONSGML v1.0//EN
CALSCALE:GREGORIAN
METHOD:PUBLISH
X-ORIGINAL-URL:https://www.houstonorchidsociety.org
X-WR-CALDESC:Events for Houston Orchid Society
REFRESH-INTERVAL;VALUE=DURATION:PT1H
X-Robots-Tag:noindex
X-PUBLISHED-TTL:PT1H
BEGIN:VTIMEZONE
TZID:America/Chicago
BEGIN:DAYLIGHT
TZOFFSETFROM:-0600
TZOFFSETTO:-0500
TZNAME:CDT
DTSTART:20210314T080000
END:DAYLIGHT
BEGIN:STANDARD
TZOFFSETFROM:-0500
TZOFFSETTO:-0600
TZNAME:CST
DTSTART:20211107T070000
END:STANDARD
BEGIN:DAYLIGHT
TZOFFSETFROM:-0600
TZOFFSETTO:-0500
TZNAME:CDT
DTSTART:20220313T080000
END:DAYLIGHT
BEGIN:STANDARD
TZOFFSETFROM:-0500
TZOFFSETTO:-0600
TZNAME:CST
DTSTART:20221106T070000
END:STANDARD
BEGIN:DAYLIGHT
TZOFFSETFROM:-0600
TZOFFSETTO:-0500
TZNAME:CDT
DTSTART:20230312T080000
END:DAYLIGHT
BEGIN:STANDARD
TZOFFSETFROM:-0500
TZOFFSETTO:-0600
TZNAME:CST
DTSTART:20231105T070000
END:STANDARD
END:VTIMEZONE
BEGIN:VEVENT
DTSTART;TZID=America/Chicago:20220303T193000
DTEND;TZID=America/Chicago:20220303T213000
DTSTAMP:20260423T005206
CREATED:20211215T211942Z
LAST-MODIFIED:20240105T172401Z
UID:10000284-1646335800-1646343000@www.houstonorchidsociety.org
SUMMARY:Monthly Meeting
DESCRIPTION:Houston Orchid Society meetings are held on the first Thursday of every month at 7:30pm at the First Christian Church/School\, 1601 Sunset Boulevard\, Houston\, Texas 77005. Masks will be required\, and no refreshments will be served. \nAuthor Joe Liggio will speak on the wild orchids of Texas. \nMany orchids\, given by an anonymous donor\, will be on the raffle or silent auction table! \nBefore the meeting\, a Zoom link will be sent in an email to all members for those who cannot attend in person.
URL:https://www.houstonorchidsociety.org/event/monthly-meeting-2022-03-03/
LOCATION:First Christian Church\, 1601 Sunset Boulevard\, Houston\, TX\, 77005\, United States
CATEGORIES:Monthly Meeting
GEO:29;-95
X-APPLE-STRUCTURED-LOCATION;VALUE=URI;X-ADDRESS=First Christian Church 1601 Sunset Boulevard Houston TX 77005 United States;X-APPLE-RADIUS=500;X-TITLE=1601 Sunset Boulevard:geo:-95,29
END:VEVENT
END:VCALENDAR